View In:
ArcGIS JavaScript
ArcGIS Online Map Viewer
ArcGIS Earth
ArcMap
View Footprint In:
ArcGIS Online Map Viewer
Service Description: Imagery/Airphoto2023GC
Name: Imagery/Airphoto2023GC
Description:
Single Fused Map Cache: false
Extent:
XMin: 2376.0
YMin: 5930406.0
XMax: 10476.0
YMax: 5937831.0
Spatial Reference: 102187
(3776)
LatestVCSWkid(0)
Initial Extent:
XMin: 2376.0
YMin: 5930406.0
XMax: 10476.0
YMax: 5937831.0
Spatial Reference: 102187
(3776)
LatestVCSWkid(0)
Full Extent:
XMin: 2376.0
YMin: 5930406.0
XMax: 10476.0
YMax: 5937831.0
Spatial Reference: 102187
(3776)
LatestVCSWkid(0)
Pixel Size X: 0.075
Pixel Size Y: 0.075
Band Count: 4
Pixel Type: U8
RasterFunction Infos: {"rasterFunctionInfos": [{
"name": "None",
"description": "",
"help": ""
}]}
Mensuration Capabilities: Basic
Has Histograms: true
Has Colormap: false
Has Multi Dimensions : false
Rendering Rule:
Min Scale: 0
Max Scale: 0
Copyright Text:
Service Data Type: esriImageServiceDataTypeGeneric
Min Values: 0, 0, 0, 0
Max Values: 248, 219, 207, 255
Mean Values: 111.6064690027, 101.38043896804, 74.448979591837, 204.63419329996
Standard Deviation Values: 63.711861639432, 56.382925774961, 43.989017820283, 100.79412538355
Object ID Field:
Fields:
None
Default Mosaic Method: Center
Allowed Mosaic Methods:
SortField:
SortValue: null
Mosaic Operator: First
Default Compression Quality: 75
Default Resampling Method: Bilinear
Max Record Count: null
Max Image Height: 4100
Max Image Width: 15000
Max Download Image Count: null
Max Mosaic Image Count: null
Allow Raster Function: true
Allow Copy: true
Allow Analysis: true
Allow Compute TiePoints: false
Supports Statistics: false
Supports Advanced Queries: false
Use StandardizedQueries: true
Raster Type Infos:
Name: Raster Dataset
Description: Supports all ArcGIS Raster Datasets
Help:
Has Raster Attribute Table: false
Edit Fields Info: null
Ownership Based AccessControl For Rasters: null
Child Resources:
Info
Histograms
Statistics
Key Properties
Legend
Raster Function Infos
Supported Operations:
Export Image
Identify
Measure
Compute Histograms
Compute Statistics Histograms
Get Samples
Compute Class Statistics
Query Boundary
Compute Pixel Location
Compute Angles
Validate
Project