{
 "currentVersion": 10.91,
 "serviceDescription": "Imagery/Airphoto2023GC",
 "name": "Imagery/Airphoto2023GC",
 "description": "",
 "extent": {
  "xmin": 2376,
  "ymin": 5930406,
  "xmax": 10476,
  "ymax": 5937831,
  "spatialReference": {
   "wkid": 102187,
   "latestWkid": 3776
  }
 },
 "initialExtent": {
  "xmin": 2376,
  "ymin": 5930406,
  "xmax": 10476,
  "ymax": 5937831,
  "spatialReference": {
   "wkid": 102187,
   "latestWkid": 3776
  }
 },
 "fullExtent": {
  "xmin": 2376,
  "ymin": 5930406,
  "xmax": 10476,
  "ymax": 5937831,
  "spatialReference": {
   "wkid": 102187,
   "latestWkid": 3776
  }
 },
 "hasMultidimensions": false,
 "pixelSizeX": 0.075,
 "pixelSizeY": 0.075,
 "datasetFormat": "MrSID",
 "uncompressedSize": 42768000000,
 "blockWidth": 1024,
 "blockHeight": 128,
 "compressionType": "Wavelet (MG4)",
 "bandNames": [
  "Band_1",
  "Band_2",
  "Band_3",
  "Band_4"
 ],
 "allowCopy": true,
 "allowAnalysis": true,
 "bandCount": 4,
 "pixelType": "U8",
 "minPixelSize": 0,
 "maxPixelSize": 0,
 "copyrightText": "",
 "serviceDataType": "esriImageServiceDataTypeGeneric",
 "serviceSourceType": "esriImageServiceSourceTypeDataset",
 "minValues": [
  0,
  0,
  0,
  0
 ],
 "maxValues": [
  248,
  219,
  207,
  255
 ],
 "meanValues": [
  111.6064690027,
  101.38043896804,
  74.448979591837,
  204.63419329996
 ],
 "stdvValues": [
  63.711861639432,
  56.382925774961,
  43.989017820283,
  100.79412538355
 ],
 "objectIdField": "",
 "fields": [],
 "capabilities": "Image,Metadata,Mensuration",
 "defaultMosaicMethod": "Center",
 "allowedMosaicMethods": "",
 "sortField": "",
 "sortValue": null,
 "sortAscending": true,
 "mosaicOperator": "First",
 "defaultCompressionQuality": 75,
 "defaultResamplingMethod": "Bilinear",
 "maxImageHeight": 4100,
 "maxImageWidth": 15000,
 "allowRasterFunction": true,
 "rasterFunctionInfos": [
  {
   "name": "None",
   "description": "",
   "help": ""
  }
 ],
 "rasterTypeInfos": [
  {
   "name": "Raster Dataset",
   "description": "Supports all ArcGIS Raster Datasets",
   "help": ""
  }
 ],
 "mensurationCapabilities": "Basic",
 "hasHistograms": true,
 "hasColormap": false,
 "hasRasterAttributeTable": false,
 "minScale": 0,
 "maxScale": 0,
 "exportTilesAllowed": false,
 "supportsStatistics": false,
 "supportsAdvancedQueries": false,
 "editFieldsInfo": null,
 "ownershipBasedAccessControlForRasters": null,
 "allowComputeTiePoints": false,
 "useStandardizedQueries": true,
 "advancedQueryCapabilities": {
  "useStandardizedQueries": true,
  "supportsStatistics": false,
  "supportsOrderBy": false,
  "supportsDistinct": false,
  "supportsPagination": false
 },
 "spatialReference": {
  "wkid": 102187,
  "latestWkid": 3776
 }
}
