View In:
ArcGIS JavaScript
ArcGIS Online Map Viewer
ArcGIS Earth
ArcMap
View Footprint In:
ArcGIS Online Map Viewer
Service Description: Imagery/Airphoto2019GC
Name: Imagery/Airphoto2019GC
Description:
Single Fused Map Cache: false
Extent:
XMin: -500.0
YMin: 5929500.0
XMax: 13000.0
YMax: 5940000.0
Spatial Reference: 102187
(3776)
LatestVCSWkid(0)
Initial Extent:
XMin: -500.0
YMin: 5929500.0
XMax: 13000.0
YMax: 5940000.0
Spatial Reference: 102187
(3776)
LatestVCSWkid(0)
Full Extent:
XMin: -500.0
YMin: 5929500.0
XMax: 13000.0
YMax: 5940000.0
Spatial Reference: 102187
(3776)
LatestVCSWkid(0)
Pixel Size X: 0.1
Pixel Size Y: 0.1
Band Count: 5
Pixel Type: U8
RasterFunction Infos: {"rasterFunctionInfos": [{
"name": "None",
"description": "",
"help": ""
}]}
Mensuration Capabilities: Basic
Has Histograms: true
Has Colormap: false
Has Multi Dimensions : false
Rendering Rule:
Min Scale: 0
Max Scale: 0
Copyright Text:
Service Data Type: esriImageServiceDataTypeGeneric
Min Values: 5, 16, 15, 17, 0
Max Values: 255, 255, 255, 255, 255
Mean Values: 146.19900932401, 150.45454545455, 142.34557109557, 183.06264568765, 181.63665501166
Standard Deviation Values: 71.581854210166, 68.235898133051, 72.907955495661, 48.060863496127, 112.50156941252
Object ID Field:
Fields:
None
Default Mosaic Method: Center
Allowed Mosaic Methods:
SortField:
SortValue: null
Mosaic Operator: First
Default Compression Quality: 75
Default Resampling Method: Bilinear
Max Record Count: null
Max Image Height: 4100
Max Image Width: 15000
Max Download Image Count: null
Max Mosaic Image Count: null
Allow Raster Function: true
Allow Copy: true
Allow Analysis: true
Allow Compute TiePoints: false
Supports Statistics: false
Supports Advanced Queries: false
Use StandardizedQueries: true
Raster Type Infos:
Name: Raster Dataset
Description: Supports all ArcGIS Raster Datasets
Help:
Has Raster Attribute Table: false
Edit Fields Info: null
Ownership Based AccessControl For Rasters: null
Child Resources:
Info
Histograms
Statistics
Key Properties
Legend
Raster Function Infos
Supported Operations:
Export Image
Identify
Measure
Compute Histograms
Compute Statistics Histograms
Get Samples
Compute Class Statistics
Query Boundary
Compute Pixel Location
Compute Angles
Validate
Project