{
 "currentVersion": 10.91,
 "serviceDescription": "Imagery/Airphoto2019GC",
 "name": "Imagery/Airphoto2019GC",
 "description": "",
 "extent": {
  "xmin": -500,
  "ymin": 5929500,
  "xmax": 13000,
  "ymax": 5940000,
  "spatialReference": {
   "wkid": 102187,
   "latestWkid": 3776
  }
 },
 "initialExtent": {
  "xmin": -500,
  "ymin": 5929500,
  "xmax": 13000,
  "ymax": 5940000,
  "spatialReference": {
   "wkid": 102187,
   "latestWkid": 3776
  }
 },
 "fullExtent": {
  "xmin": -500,
  "ymin": 5929500,
  "xmax": 13000,
  "ymax": 5940000,
  "spatialReference": {
   "wkid": 102187,
   "latestWkid": 3776
  }
 },
 "hasMultidimensions": false,
 "pixelSizeX": 0.1,
 "pixelSizeY": 0.1,
 "datasetFormat": "MrSID",
 "uncompressedSize": 70875000000,
 "blockWidth": 1024,
 "blockHeight": 128,
 "compressionType": "Wavelet (MG4)",
 "bandNames": [
  "Band_1",
  "Band_2",
  "Band_3",
  "Band_4",
  "Band_5"
 ],
 "allowCopy": true,
 "allowAnalysis": true,
 "bandCount": 5,
 "pixelType": "U8",
 "minPixelSize": 0,
 "maxPixelSize": 0,
 "copyrightText": "",
 "serviceDataType": "esriImageServiceDataTypeGeneric",
 "serviceSourceType": "esriImageServiceSourceTypeDataset",
 "minValues": [
  5,
  16,
  15,
  17,
  0
 ],
 "maxValues": [
  255,
  255,
  255,
  255,
  255
 ],
 "meanValues": [
  146.19900932401,
  150.45454545455,
  142.34557109557,
  183.06264568765,
  181.63665501166
 ],
 "stdvValues": [
  71.581854210166,
  68.235898133051,
  72.907955495661,
  48.060863496127,
  112.50156941252
 ],
 "objectIdField": "",
 "fields": [],
 "capabilities": "Image,Metadata,Mensuration",
 "defaultMosaicMethod": "Center",
 "allowedMosaicMethods": "",
 "sortField": "",
 "sortValue": null,
 "sortAscending": true,
 "mosaicOperator": "First",
 "defaultCompressionQuality": 75,
 "defaultResamplingMethod": "Bilinear",
 "maxImageHeight": 4100,
 "maxImageWidth": 15000,
 "allowRasterFunction": true,
 "rasterFunctionInfos": [
  {
   "name": "None",
   "description": "",
   "help": ""
  }
 ],
 "rasterTypeInfos": [
  {
   "name": "Raster Dataset",
   "description": "Supports all ArcGIS Raster Datasets",
   "help": ""
  }
 ],
 "mensurationCapabilities": "Basic",
 "hasHistograms": true,
 "hasColormap": false,
 "hasRasterAttributeTable": false,
 "minScale": 0,
 "maxScale": 0,
 "exportTilesAllowed": false,
 "supportsStatistics": false,
 "supportsAdvancedQueries": false,
 "editFieldsInfo": null,
 "ownershipBasedAccessControlForRasters": null,
 "allowComputeTiePoints": false,
 "useStandardizedQueries": true,
 "advancedQueryCapabilities": {
  "useStandardizedQueries": true,
  "supportsStatistics": false,
  "supportsOrderBy": false,
  "supportsDistinct": false,
  "supportsPagination": false
 },
 "spatialReference": {
  "wkid": 102187,
  "latestWkid": 3776
 }
}
