View In:
ArcGIS JavaScript
ArcGIS Online Map Viewer
ArcGIS Earth
ArcMap
View Footprint In:
ArcGIS Online Map Viewer
Service Description: Imagery/Airphoto2018GC
Name: Imagery/Airphoto2018GC
Description:
Single Fused Map Cache: false
Extent:
XMin: 2389.3999999999996
YMin: 5931793.5
XMax: 10451.3
YMax: 5937803.0
Spatial Reference: 102187
(3776)
LatestVCSWkid(0)
Initial Extent:
XMin: 2389.3999999999996
YMin: 5931793.5
XMax: 10451.3
YMax: 5937803.0
Spatial Reference: 102187
(3776)
LatestVCSWkid(0)
Full Extent:
XMin: 2389.3999999999996
YMin: 5931793.5
XMax: 10451.3
YMax: 5937803.0
Spatial Reference: 102187
(3776)
LatestVCSWkid(0)
Pixel Size X: 0.09999999999999999
Pixel Size Y: 0.1
Band Count: 3
Pixel Type: U8
RasterFunction Infos: {"rasterFunctionInfos": [{
"name": "None",
"description": "",
"help": ""
}]}
Mensuration Capabilities: Basic
Has Histograms: true
Has Colormap: false
Has Multi Dimensions : false
Rendering Rule:
Min Scale: 0
Max Scale: 0
Copyright Text:
Service Data Type: esriImageServiceDataTypeRGB
Min Values: 1, 0, 0
Max Values: 255, 255, 255
Mean Values: 159.40399055997, 143.54923836087, 113.63334048487
Standard Deviation Values: 45.583306860721, 48.104459633631, 56.870046455425
Object ID Field:
Fields:
None
Default Mosaic Method: Center
Allowed Mosaic Methods:
SortField:
SortValue: null
Mosaic Operator: First
Default Compression Quality: 75
Default Resampling Method: Bilinear
Max Record Count: null
Max Image Height: 4100
Max Image Width: 15000
Max Download Image Count: null
Max Mosaic Image Count: null
Allow Raster Function: true
Allow Copy: true
Allow Analysis: true
Allow Compute TiePoints: false
Supports Statistics: false
Supports Advanced Queries: false
Use StandardizedQueries: true
Raster Type Infos:
Name: Raster Dataset
Description: Supports all ArcGIS Raster Datasets
Help:
Has Raster Attribute Table: false
Edit Fields Info: null
Ownership Based AccessControl For Rasters: null
Child Resources:
Info
Histograms
Statistics
Key Properties
Legend
Raster Function Infos
Supported Operations:
Export Image
Identify
Measure
Compute Histograms
Compute Statistics Histograms
Get Samples
Compute Class Statistics
Query Boundary
Compute Pixel Location
Compute Angles
Validate
Project