{
 "currentVersion": 10.91,
 "serviceDescription": "Imagery/Airphoto2018GC",
 "name": "Imagery/Airphoto2018GC",
 "description": "",
 "extent": {
  "xmin": 2389.3999999999996,
  "ymin": 5931793.5,
  "xmax": 10451.3,
  "ymax": 5937803,
  "spatialReference": {
   "wkid": 102187,
   "latestWkid": 3776
  }
 },
 "initialExtent": {
  "xmin": 2389.3999999999996,
  "ymin": 5931793.5,
  "xmax": 10451.3,
  "ymax": 5937803,
  "spatialReference": {
   "wkid": 102187,
   "latestWkid": 3776
  }
 },
 "fullExtent": {
  "xmin": 2389.3999999999996,
  "ymin": 5931793.5,
  "xmax": 10451.3,
  "ymax": 5937803,
  "spatialReference": {
   "wkid": 102187,
   "latestWkid": 3776
  }
 },
 "hasMultidimensions": false,
 "pixelSizeX": 0.09999999999999999,
 "pixelSizeY": 0.1,
 "datasetFormat": "MrSID",
 "uncompressedSize": 14534396415,
 "blockWidth": 1024,
 "blockHeight": 128,
 "compressionType": "Wavelet (MG3)",
 "bandNames": [
  "Band_1",
  "Band_2",
  "Band_3"
 ],
 "allowCopy": true,
 "allowAnalysis": true,
 "bandCount": 3,
 "pixelType": "U8",
 "minPixelSize": 0,
 "maxPixelSize": 0,
 "copyrightText": "",
 "serviceDataType": "esriImageServiceDataTypeRGB",
 "serviceSourceType": "esriImageServiceSourceTypeDataset",
 "minValues": [
  1,
  0,
  0
 ],
 "maxValues": [
  255,
  255,
  255
 ],
 "meanValues": [
  159.40399055997,
  143.54923836087,
  113.63334048487
 ],
 "stdvValues": [
  45.583306860721,
  48.104459633631,
  56.870046455425
 ],
 "objectIdField": "",
 "fields": [],
 "capabilities": "Image,Metadata,Mensuration",
 "defaultMosaicMethod": "Center",
 "allowedMosaicMethods": "",
 "sortField": "",
 "sortValue": null,
 "sortAscending": true,
 "mosaicOperator": "First",
 "defaultCompressionQuality": 75,
 "defaultResamplingMethod": "Bilinear",
 "maxImageHeight": 4100,
 "maxImageWidth": 15000,
 "allowRasterFunction": true,
 "rasterFunctionInfos": [
  {
   "name": "None",
   "description": "",
   "help": ""
  }
 ],
 "rasterTypeInfos": [
  {
   "name": "Raster Dataset",
   "description": "Supports all ArcGIS Raster Datasets",
   "help": ""
  }
 ],
 "mensurationCapabilities": "Basic",
 "hasHistograms": true,
 "hasColormap": false,
 "hasRasterAttributeTable": false,
 "minScale": 0,
 "maxScale": 0,
 "exportTilesAllowed": false,
 "supportsStatistics": false,
 "supportsAdvancedQueries": false,
 "editFieldsInfo": null,
 "ownershipBasedAccessControlForRasters": null,
 "allowComputeTiePoints": false,
 "useStandardizedQueries": true,
 "advancedQueryCapabilities": {
  "useStandardizedQueries": true,
  "supportsStatistics": false,
  "supportsOrderBy": false,
  "supportsDistinct": false,
  "supportsPagination": false
 },
 "spatialReference": {
  "wkid": 102187,
  "latestWkid": 3776
 }
}
