View In:
ArcGIS JavaScript
ArcGIS Online Map Viewer
ArcGIS Earth
ArcMap
View Footprint In:
ArcGIS Online Map Viewer
Service Description: Imagery/Airphoto2017GC
Name: Imagery/Airphoto2017GC
Description:
Single Fused Map Cache: false
Extent:
XMin: 1645.3976157084446
YMin: 5930828.966177958
XMax: 11580.773831798277
YMax: 5938134.881353204
Spatial Reference: 0
(0)
LatestVCSWkid(0)
Initial Extent:
XMin: 1645.3976157084446
YMin: 5930828.966177958
XMax: 11580.773831798277
YMax: 5938134.881353204
Spatial Reference: 0
(0)
LatestVCSWkid(0)
Full Extent:
XMin: 1645.3976157084446
YMin: 5930828.966177958
XMax: 11580.773831798277
YMax: 5938134.881353204
Spatial Reference: 0
(0)
LatestVCSWkid(0)
Pixel Size X: 0.10006321032208187
Pixel Size Y: 0.10006321032208065
Band Count: 3
Pixel Type: U8
RasterFunction Infos: {"rasterFunctionInfos": [{
"name": "None",
"description": "",
"help": ""
}]}
Mensuration Capabilities: Basic
Has Histograms: true
Has Colormap: false
Has Multi Dimensions : false
Rendering Rule:
Min Scale: 0
Max Scale: 0
Copyright Text:
Service Data Type: esriImageServiceDataTypeRGB
Min Values: 0, 18, 18
Max Values: 245, 234, 236
Mean Values: 92.535223367698, 100.86469072165, 88.946878579611
Standard Deviation Values: 30.786570220393, 24.730005787394, 20.626038423486
Object ID Field:
Fields:
None
Default Mosaic Method: Center
Allowed Mosaic Methods:
SortField:
SortValue: null
Mosaic Operator: First
Default Compression Quality: 75
Default Resampling Method: Bilinear
Max Record Count: null
Max Image Height: 4100
Max Image Width: 15000
Max Download Image Count: null
Max Mosaic Image Count: null
Allow Raster Function: true
Allow Copy: true
Allow Analysis: true
Allow Compute TiePoints: false
Supports Statistics: false
Supports Advanced Queries: false
Use StandardizedQueries: true
Raster Type Infos:
Name: Raster Dataset
Description: Supports all ArcGIS Raster Datasets
Help:
Has Raster Attribute Table: false
Edit Fields Info: null
Ownership Based AccessControl For Rasters: null
Child Resources:
Info
Histograms
Statistics
Key Properties
Legend
Raster Function Infos
Supported Operations:
Export Image
Identify
Measure
Compute Histograms
Compute Statistics Histograms
Get Samples
Compute Class Statistics
Query Boundary
Compute Pixel Location
Compute Angles
Validate
Project