View In:
ArcGIS JavaScript
ArcGIS Online Map Viewer
ArcGIS Earth
ArcMap
View Footprint In:
ArcGIS Online Map Viewer
Service Description: Imagery/Airphoto2015GC
Name: Imagery/Airphoto2015GC
Description:
Single Fused Map Cache: false
Extent:
XMin: 1799.1000000000001
YMin: 5930864.0
XMax: 11021.900000000001
YMax: 5938354.1
Spatial Reference: 0
(0)
LatestVCSWkid(0)
Initial Extent:
XMin: 1799.1000000000001
YMin: 5930864.0
XMax: 11021.900000000001
YMax: 5938354.1
Spatial Reference: 0
(0)
LatestVCSWkid(0)
Full Extent:
XMin: 1799.1000000000001
YMin: 5930864.0
XMax: 11021.900000000001
YMax: 5938354.1
Spatial Reference: 0
(0)
LatestVCSWkid(0)
Pixel Size X: 0.1
Pixel Size Y: 0.09999999999999502
Band Count: 4
Pixel Type: U8
RasterFunction Infos: {"rasterFunctionInfos": [{
"name": "None",
"description": "",
"help": ""
}]}
Mensuration Capabilities: Basic
Has Histograms: true
Has Colormap: false
Has Multi Dimensions : false
Rendering Rule:
Min Scale: 0
Max Scale: 0
Copyright Text:
Service Data Type: esriImageServiceDataTypeGeneric
Min Values: 4, 8, 9, 0
Max Values: 218, 193, 192, 255
Mean Values: 114.43881793882, 103.36531036531, 105.40689040689, 247.60632610633
Standard Deviation Values: 23.822867187602, 19.100298539338, 19.052157944628, 36.713330445344
Object ID Field:
Fields:
None
Default Mosaic Method: Center
Allowed Mosaic Methods:
SortField:
SortValue: null
Mosaic Operator: First
Default Compression Quality: 75
Default Resampling Method: Bilinear
Max Record Count: null
Max Image Height: 4100
Max Image Width: 15000
Max Download Image Count: null
Max Mosaic Image Count: null
Allow Raster Function: true
Allow Copy: true
Allow Analysis: true
Allow Compute TiePoints: false
Supports Statistics: false
Supports Advanced Queries: false
Use StandardizedQueries: true
Raster Type Infos:
Name: Raster Dataset
Description: Supports all ArcGIS Raster Datasets
Help:
Has Raster Attribute Table: false
Edit Fields Info: null
Ownership Based AccessControl For Rasters: null
Child Resources:
Info
Histograms
Statistics
Key Properties
Legend
Raster Function Infos
Supported Operations:
Export Image
Identify
Measure
Compute Histograms
Compute Statistics Histograms
Get Samples
Compute Class Statistics
Query Boundary
Compute Pixel Location
Compute Angles
Validate
Project